BEGIN:VCALENDAR
VERSION:2.0
PRODID:-//WLOY Loyola Radio - ECPv6.15.20//NONSGML v1.0//EN
CALSCALE:GREGORIAN
METHOD:PUBLISH
X-ORIGINAL-URL:https://wloy.org
X-WR-CALDESC:Events for WLOY Loyola Radio
REFRESH-INTERVAL;VALUE=DURATION:PT1H
X-Robots-Tag:noindex
X-PUBLISHED-TTL:PT1H
BEGIN:VTIMEZONE
TZID:America/New_York
BEGIN:DAYLIGHT
TZOFFSETFROM:-0500
TZOFFSETTO:-0400
TZNAME:EDT
DTSTART:20140309T070000
END:DAYLIGHT
BEGIN:STANDARD
TZOFFSETFROM:-0400
TZOFFSETTO:-0500
TZNAME:EST
DTSTART:20141102T060000
END:STANDARD
BEGIN:DAYLIGHT
TZOFFSETFROM:-0500
TZOFFSETTO:-0400
TZNAME:EDT
DTSTART:20150308T070000
END:DAYLIGHT
BEGIN:STANDARD
TZOFFSETFROM:-0400
TZOFFSETTO:-0500
TZNAME:EST
DTSTART:20151101T060000
END:STANDARD
BEGIN:DAYLIGHT
TZOFFSETFROM:-0500
TZOFFSETTO:-0400
TZNAME:EDT
DTSTART:20160313T070000
END:DAYLIGHT
BEGIN:STANDARD
TZOFFSETFROM:-0400
TZOFFSETTO:-0500
TZNAME:EST
DTSTART:20161106T060000
END:STANDARD
BEGIN:DAYLIGHT
TZOFFSETFROM:-0500
TZOFFSETTO:-0400
TZNAME:EDT
DTSTART:20170312T070000
END:DAYLIGHT
BEGIN:STANDARD
TZOFFSETFROM:-0400
TZOFFSETTO:-0500
TZNAME:EST
DTSTART:20171105T060000
END:STANDARD
BEGIN:DAYLIGHT
TZOFFSETFROM:-0500
TZOFFSETTO:-0400
TZNAME:EDT
DTSTART:20180311T070000
END:DAYLIGHT
BEGIN:STANDARD
TZOFFSETFROM:-0400
TZOFFSETTO:-0500
TZNAME:EST
DTSTART:20181104T060000
END:STANDARD
BEGIN:DAYLIGHT
TZOFFSETFROM:-0500
TZOFFSETTO:-0400
TZNAME:EDT
DTSTART:20190310T070000
END:DAYLIGHT
BEGIN:STANDARD
TZOFFSETFROM:-0400
TZOFFSETTO:-0500
TZNAME:EST
DTSTART:20191103T060000
END:STANDARD
BEGIN:DAYLIGHT
TZOFFSETFROM:-0500
TZOFFSETTO:-0400
TZNAME:EDT
DTSTART:20200308T070000
END:DAYLIGHT
BEGIN:STANDARD
TZOFFSETFROM:-0400
TZOFFSETTO:-0500
TZNAME:EST
DTSTART:20201101T060000
END:STANDARD
BEGIN:DAYLIGHT
TZOFFSETFROM:-0500
TZOFFSETTO:-0400
TZNAME:EDT
DTSTART:20210314T070000
END:DAYLIGHT
BEGIN:STANDARD
TZOFFSETFROM:-0400
TZOFFSETTO:-0500
TZNAME:EST
DTSTART:20211107T060000
END:STANDARD
END:VTIMEZONE
BEGIN:VEVENT
DTSTART;TZID=America/New_York:20200220T200000
DTEND;TZID=America/New_York:20200220T220000
DTSTAMP:20260423T035545
CREATED:20200220T222057Z
LAST-MODIFIED:20220907T161019Z
UID:28902-1582228800-1582236000@wloy.org
SUMMARY:Musical Movie Night: Bohemian Rhapsody
DESCRIPTION:
URL:https://wloy.org/event/musical-movie-night-bohemian-rhapsody/
CATEGORIES:Coffeehouse (3rd Floor Reading Room)
END:VEVENT
BEGIN:VEVENT
DTSTART;TZID=America/New_York:20200220T200000
DTEND;TZID=America/New_York:20200220T220000
DTSTAMP:20260423T035545
CREATED:20200207T193512Z
LAST-MODIFIED:20220907T161019Z
UID:28869-1582228800-1582236000@wloy.org
SUMMARY:Music\, Movie & Popcorn (w/ CAB)
DESCRIPTION:
URL:https://wloy.org/event/music-movie-popcorn-w-cab/
CATEGORIES:Coffeehouse (3rd Floor Reading Room)
END:VEVENT
BEGIN:VEVENT
DTSTART;TZID=America/New_York:20150910T200000
DTEND;TZID=America/New_York:20150910T220000
DTSTAMP:20260423T035545
CREATED:20150901T174446Z
LAST-MODIFIED:20220907T161046Z
UID:23478-1441915200-1441922400@wloy.org
SUMMARY:Open Mic Night
DESCRIPTION:This event is FREE and will take place on Thursday\, September 10th from 8-10 pm. The Open Mic Night will be in the third floor Reading Room\, two floors above Boulder Café.
URL:https://wloy.org/event/open-mic-night-3/
CATEGORIES:Coffeehouse (3rd Floor Reading Room)
END:VEVENT
BEGIN:VEVENT
DTSTART;TZID=America/New_York:20150423T200000
DTEND;TZID=America/New_York:20150423T220000
DTSTAMP:20260423T035545
CREATED:20150217T000231Z
LAST-MODIFIED:20220907T161048Z
UID:22431-1429819200-1429826400@wloy.org
SUMMARY:Swampcandy
DESCRIPTION:Swampcandy is the aggressive Stomping Mississippi Blues and Roots influenced duo that won the 2014 Floydfestival On The Rise competition coming in first place out of 35 bands that preformed at the festival. They have a sound that a band can only achieve after performing over 1000 gigs. Nominated by WLOY\, Swampcandy also won BEST ARTIST on RadioFlag for 2014. They’ve played several shows with us in the past and make it impossible for an audience to stay still. Catch them in the Coffeehouse right before they head off on another UK tour!
URL:https://wloy.org/event/swampcandy/
CATEGORIES:Coffeehouse (3rd Floor Reading Room)
ATTACH;FMTTYPE=image/jpeg:https://wloy.org/wp-content/uploads/2015/02/16357356570_50977bffed_z-e1424131249697.jpg
END:VEVENT
BEGIN:VEVENT
DTSTART;TZID=America/New_York:20150416T200000
DTEND;TZID=America/New_York:20150416T220000
DTSTAMP:20260423T035545
CREATED:20150216T204515Z
LAST-MODIFIED:20220907T161048Z
UID:22410-1429214400-1429221600@wloy.org
SUMMARY:Open Mic Night
DESCRIPTION:WLOY will be hosting an Open Mic Night as a part of our Coffeehouse Series\, now featuring actual coffee. Come by to showcase your talent\, encourage a friend to sing along and perhaps woo the person of your desires with a love song! Any instruments are welcome\, and there is a baby grand piano in place.  We will provide 2 wireless mics for the overhead PA system.  If you want to play electric\, you need to haul your own amp!  Ed Sheeran and Etta James covers are recommended\, along with heart felt originals. So stop by the Reading Room from 8-10PM this Thursday for good tunes from your peers\, a relaxing vibe and real\, 100% Arabica Coffee!
URL:https://wloy.org/event/open-mic-night-2/
CATEGORIES:Coffeehouse (3rd Floor Reading Room)
ATTACH;FMTTYPE=image/jpeg:https://wloy.org/wp-content/uploads/2015/02/Open-Mic-Night-Logo-e1424384655460.jpg
END:VEVENT
BEGIN:VEVENT
DTSTART;TZID=America/New_York:20150326T200000
DTEND;TZID=America/New_York:20150326T220000
DTSTAMP:20260423T035545
CREATED:20150216T234740Z
LAST-MODIFIED:20220907T161134Z
UID:22428-1427400000-1427407200@wloy.org
SUMMARY:Tiny Rhymes
DESCRIPTION:Tiny Rhymes is a chamber folk group based out of Buffalo\, NY. \nFind them on Twitter @tinyrhymesmusic and on Instagram under tinyrhymes \n 
URL:https://wloy.org/event/tiny-rhymes-loyola-coffee-house/
CATEGORIES:Coffeehouse (3rd Floor Reading Room)
ATTACH;FMTTYPE=image/jpeg:https://wloy.org/wp-content/uploads/2015/02/TR-e1424129870773.jpg
END:VEVENT
BEGIN:VEVENT
DTSTART;TZID=America/New_York:20150226T200000
DTEND;TZID=America/New_York:20150226T220000
DTSTAMP:20260423T035545
CREATED:20150216T203845Z
LAST-MODIFIED:20220907T161050Z
UID:22404-1424980800-1424988000@wloy.org
SUMMARY:Open Mic Night
DESCRIPTION:WLOY will be hosting an Open Mic Night as a part of our Coffeehouse Series\, now featuring actual coffee. Come by to showcase your talent\, encourage a friend to sing along and perhaps woo the person of your desires with a love song! Any instruments are welcome\, and there is a baby grand piano in place.  We will provide 2 wireless mics for the overhead PA system.  If you want to play electric\, you need to haul your own amp!  Ed Sheeran and Etta James covers are recommended\, along with heart felt originals. So stop by the Reading Room from 8-10PM this Thursday for good tunes from your peers\, a relaxing vibe and real\, 100% Arabica Coffee!
URL:https://wloy.org/event/open-mic-night/
CATEGORIES:Coffeehouse (3rd Floor Reading Room)
ATTACH;FMTTYPE=image/jpeg:https://wloy.org/wp-content/uploads/2015/02/Open-Mic-Night-Logo-e1424384655460.jpg
END:VEVENT
BEGIN:VEVENT
DTSTART;TZID=America/New_York:20150219T200000
DTEND;TZID=America/New_York:20150219T220000
DTSTAMP:20260423T035545
CREATED:20150216T195533Z
LAST-MODIFIED:20220907T161050Z
UID:22397-1424376000-1424383200@wloy.org
SUMMARY:ellen cherry
DESCRIPTION:Emmy nominated singer/songwriter ellen cherry (lowercase letters intentional!) is a full-time touring and working performer based in Baltimore\, MD. In 2012\, ellen released her newest and most intimate work yet\, a piano-based album produced by Caleb Stine\, entitled “Please Don’t Sell the Piano”. Throughout 2012\, ellen was a Strathmore Artist-in-Residence and co-founded MOBTOWNmoon\, a new collaborative project for Baltimore musicians. In 2010\, she wrote\, recorded and performed a song for an Emmy nominated TV campaign and also composed the score for a shadow puppet piece entitled “Alonzo’s Lullaby”\, which has been awarded the prestigious UNIMA Citation of Excellence. ellen tours nationally and internationally\, charming audiences from house concerts to festivals! \nEllen has graced the Coffeehouse before and garnered rave reviews from students. Join us 8-10pm for another wonderful evening including her latest single “Whippoorwill Lodge”. It’s sure to enchant!
URL:https://wloy.org/event/ellen-cherry/
CATEGORIES:Coffeehouse (3rd Floor Reading Room)
ATTACH;FMTTYPE=image/jpeg:https://wloy.org/wp-content/uploads/2015/02/ellen_cherry_2012-e1424118400801.jpg
END:VEVENT
END:VCALENDAR